BEGIN:VCALENDAR
VERSION:2.0
PRODID:-//Tukios.com/
BEGIN:VEVENT
UID:08dc71b9-50bf-45f7-b10b-ff534be2a5dc@www.simplecremationofmaine.com
DTSTAMP:20260422T154424Z
DTSTART:20260502T190000Z
DTEND:20260502T200000Z
SUMMARY:Celebration of Life
DESCRIPTION:
URL:https://www.simplecremationofmaine.com/obituaries/gertrude-kinney
LOCATION:Dixmont Goldcrest Riders Snowmobile Club 31 Cates Road  Dixmont 
	ME 04932
GEO:44.6880655;-69.1687208
END:VEVENT
END:VCALENDAR